BEGIN:VCALENDAR
VERSION:2.0
PRODID:-//市川町商工会 - ECPv5.1.5//NONSGML v1.0//EN
CALSCALE:GREGORIAN
METHOD:PUBLISH
X-WR-CALNAME:市川町商工会
X-ORIGINAL-URL:https://ichikawa-hyogo.jp
X-WR-CALDESC:市川町商工会 のイベント
BEGIN:VTIMEZONE
TZID:Asia/Tokyo
BEGIN:STANDARD
TZOFFSETFROM:+0900
TZOFFSETTO:+0900
TZNAME:JST
DTSTART:20220101T000000
END:STANDARD
END:VTIMEZONE
BEGIN:VEVENT
DTSTART;TZID=Asia/Tokyo:20221201T100000
DTEND;TZID=Asia/Tokyo:20221201T160000
DTSTAMP:20260420T100202
CREATED:20221108T064012Z
LAST-MODIFIED:20221108T064348Z
UID:2782-1669888800-1669910400@ichikawa-hyogo.jp
SUMMARY:オンライン一日公庫
DESCRIPTION:この度、本会では、神河町商工会、日本政策金融公庫姫路支店と連携し、融資相談会「オンライン一日公庫」を開催いたします。 \n1.相談会名\nオンライン一日公庫 \n2.日時\n令和4年12月1日(木)\n10：00～12：00\n13：00～16：00（1事業者様の相談時間：30～60分程度） \n3.場所\n市川町商工会館　2階研修室 \n4.相談方法\n当会の相談ブースにて、㈱日本政策金融公庫　融資担当者とオンラインのビデオ通話を通じてご相談いただきます。 \n5.相談料\n無料 \n6.参加申し込み方法\n添付の案内チラシを印刷し、申込書に必要事項を記入のうえ商工会宛にFAX送付願います。 \n7.申し込み締め切り\n令和4年11月28日(月) \n【添付資料】\n・オンライン一日公庫チラシ \n【問い合わせ先】\n市川町商工会\nTEL：0790-26-0099/FAX：0790-26-0674 \nwindow.twttr=(function(d\,s\,id){var js\,fjs=d.getElementsByTagName(s)[0]\,t=window.twttr||{};if(d.getElementById(id))return t;js=d.createElement(s);js.id=id;js.src="https://platform.twitter.com/widgets.js";fjs.parentNode.insertBefore(js\,fjs);t._e=[];t.ready=function(f){t._e.push(f);};return t;}(document\,"script"\,"twitter-wjs"));FacebooktwitterHatena
URL:https://ichikawa-hyogo.jp/event/2782/
LOCATION:かみかわちょう
CATEGORIES:相談会
ATTACH;FMTTYPE=image/jpeg:https://ichikawa-hyogo.jp/wp-content/uploads/2020/06/no-image.jpg
END:VEVENT
END:VCALENDAR