BEGIN:VCALENDAR
VERSION:2.0
PRODID:-//市川町商工会 - ECPv5.1.5//NONSGML v1.0//EN
CALSCALE:GREGORIAN
METHOD:PUBLISH
X-WR-CALNAME:市川町商工会
X-ORIGINAL-URL:https://ichikawa-hyogo.jp
X-WR-CALDESC:市川町商工会 のイベント
BEGIN:VTIMEZONE
TZID:Asia/Tokyo
BEGIN:STANDARD
TZOFFSETFROM:+0900
TZOFFSETTO:+0900
TZNAME:JST
DTSTART:20200101T000000
END:STANDARD
END:VTIMEZONE
BEGIN:VEVENT
DTSTART;TZID=Asia/Tokyo:20200901T100000
DTEND;TZID=Asia/Tokyo:20200901T170000
DTSTAMP:20260425T014631
CREATED:20200818T051149Z
LAST-MODIFIED:20200818T051741Z
UID:996-1598954400-1598979600@ichikawa-hyogo.jp
SUMMARY:経営課題解決個別相談会
DESCRIPTION:様々な経営課題を抱えている経営者・後継者の皆様へ \n小規模事業者の経営課題解決へのきっかけとして、様々な経営支援に取り組んだ実績のある中小企業診断士の藤尾政明氏を招き、実際に経営課題解決に向けた取り組みを行い、事業を継続されている企業の好事例などの紹介や、国、県の中小企業施策の活用方法、計画に基づいた事業展開の重要性などについて講義していただきます。 \nまた自社の課題解決に向けて取り組みを実施する事業者に対して、専門家による個別指導を実施し、それぞれの課題に合わせた事業計画を策定し今後の取り組みの見える化を行い、事業活動を円滑に実施できるように支援いたします。この機会に是非ご参加ください。 \n  \n経営課題解決個別相談会\n日程\n令和２年９月１日（火）、２日（水）、３日（木）、７日（月） \n時間\n１０：００～１７：００の間で１事業所あたり２時間程度 \n相談対応者\n中小企業診断士　藤尾政明　氏 \n  \n添付ファイル\n  経営課題解決セミナー＆個別相談会.pdf \n
URL:https://ichikawa-hyogo.jp/event/2020-09-01-1/
LOCATION:市川町商工会
CATEGORIES:相談会
ATTACH;FMTTYPE=image/jpeg:https://ichikawa-hyogo.jp/wp-content/uploads/2020/06/no-image.jpg
END:VEVENT
BEGIN:VEVENT
DTSTART;TZID=Asia/Tokyo:20200904T133000
DTEND;TZID=Asia/Tokyo:20200904T160000
DTSTAMP:20260425T014631
CREATED:20200817T103109Z
LAST-MODIFIED:20200817T103109Z
UID:990-1599226200-1599235200@ichikawa-hyogo.jp
SUMMARY:コロナ禍に備えた働き方改革セミナー
DESCRIPTION:２０１９年４月に働き方改革関連法が施行され１年が経過しました。有給休暇の見直し等を進められた事業所も多いと思います。今後も事業所の継続を考慮したうえで従業員の働き方について検討していく必要があります。 \n今回のセミナーでは今回の新型コロナウイルス感染症により浮かび上がってきた諸問題に言及しながら、今後の働き方改革の展望について分かりやすく解説します。 \n日時\n令和２年９月４日（金）　１３：３０～１６：００ \n場所\n市川町商工会館 \n定員\n１５名（定員に達し次第締め切ります） \n講師\n特定社会保険労務士　谷口正樹　氏 \n  \n添付ファイル\n  働き方改革セミナー.pdf \n
URL:https://ichikawa-hyogo.jp/event/2020-09-04-1/
LOCATION:市川町商工会
CATEGORIES:セミナー
ATTACH;FMTTYPE=image/jpeg:https://ichikawa-hyogo.jp/wp-content/uploads/2020/06/no-image.jpg
END:VEVENT
BEGIN:VEVENT
DTSTART;TZID=Asia/Tokyo:20200910T093000
DTEND;TZID=Asia/Tokyo:20200910T153000
DTSTAMP:20260425T014631
CREATED:20200817T082707Z
LAST-MODIFIED:20200817T084633Z
UID:980-1599730200-1599751800@ichikawa-hyogo.jp
SUMMARY:ポストコロナ社会に向けた経営課題を解決するための個別相談会
DESCRIPTION:ポストコロナ社会に向け、各事業者が抱えているさまざまな問題を解決するため、専門家（中小企業診断士）による個別相談会を実施します。新しい生活スタイルに向け、それぞれの事業者に合わせた多種多様な相談に対応します。 \n開催日（全２０日間）\n\n\n\n令和２年\n　９月　１０日(木)、２３日(水)、２４日(木)、３０日(水) \n１０月　　５日(月)、１２日(月)、１９日(月)、２６日(月) \n１１月　　２日(月)、　９日(月)、１６日(月)、２４日(火)、３０日(月) \n１２月　　７日(月)、１４日(月)、２１日(月)\n\n\n令和３年\n　１月　１２日(火)、１８日(月)、２５日(月) \n　２月　　１日(月)　　　　　\n\n\n\n対応時間\n９：３０～１１：３０　　１３：３０～１５：３０ \n会場\n市川町商工会館 \n相談員\n中小企業診断士　荒木慎吾　氏 \n申込\n前日までに申込書をご提出ください \n※当日でも申込状況によっては受付可能な場合もございますのでお問い合わせください \n  \n添付ファイル\n  経営課題解決個別相談会.pdf \n
URL:https://ichikawa-hyogo.jp/event/2020-09-10-1/
LOCATION:市川町商工会
CATEGORIES:相談会
ATTACH;FMTTYPE=image/jpeg:https://ichikawa-hyogo.jp/wp-content/uploads/2020/06/IMG_0284.jpg
END:VEVENT
BEGIN:VEVENT
DTSTART;TZID=Asia/Tokyo:20200917T133000
DTEND;TZID=Asia/Tokyo:20200917T160000
DTSTAMP:20260425T014631
CREATED:20200817T102112Z
LAST-MODIFIED:20200817T102112Z
UID:987-1600349400-1600358400@ichikawa-hyogo.jp
SUMMARY:事業継続計画(BCP)策定セミナー
DESCRIPTION:2020年に入ってから感染が拡大し、未だ収束の見込みが立っていない新型コロナウイルス感染症。\n昨今の集中豪雨や地震などの自然災害の脅威。 \nBCP（事業継続計画）とは、企業が自然災害や感染症などの緊急事態に遭遇した場合に、事業資産の損害を最小限にとどめ、事業の継続や早期復旧を可能とするために、平常時に行うべき活動や緊急時における事業継続のための方法などを取り決めておく計画のことです。 \n新型コロナウイルス感染症の影響により、企業の機能低下や事業継続BCPを策定していないことによって復旧への対応が遅くなると、他に顧客を奪われ、場合によっては倒産の危機に瀕する場合もあります。 \nこのたびのセミナーでは、BCP及び事業継続力強化計画の概要及び策定方法等を学ぶことで、非常時の対応力や事業継続力の強化を図ります。 \n日時\n令和２年９月１７日（木）　１３：３０～１６：００ \n場所\n市川町商工会館 \n定員\n１０名（定員に達し次第締め切ります） \n講師\n中小企業診断士　稲垣賢一　氏 \n兵庫県共済職員 \n  \n添付ファイル\n  事業継続計画(BCP)策定セミナー \n
URL:https://ichikawa-hyogo.jp/event/2020-09-17-1/
LOCATION:市川町商工会
CATEGORIES:セミナー
ATTACH;FMTTYPE=image/jpeg:https://ichikawa-hyogo.jp/wp-content/uploads/2020/06/no-image.jpg
END:VEVENT
BEGIN:VEVENT
DTSTART;TZID=Asia/Tokyo:20200923T093000
DTEND;TZID=Asia/Tokyo:20200923T153000
DTSTAMP:20260425T014631
CREATED:20200910T070349Z
LAST-MODIFIED:20200910T070912Z
UID:1165-1600853400-1600875000@ichikawa-hyogo.jp
SUMMARY:ポストコロナ社会に向けた経営課題を解決するための個別相談会
DESCRIPTION:ポストコロナ社会に向け、各事業者が抱えているさまざまな問題を解決するため、専門家（中小企業診断士）による個別相談会を実施します。新しい生活スタイルに向け、それぞれの事業者に合わせた多種多様な相談に対応します。 \n開催日（全２０日間）\n\n\n\n令和２年\n　９月　１０日(木)、２３日(水)、２４日(木)、３０日(水) \n１０月　　５日(月)、１２日(月)、１９日(月)、２６日(月) \n１１月　　２日(月)、　９日(月)、１６日(月)、２４日(火)、３０日(月) \n１２月　　７日(月)、１４日(月)、２１日(月)\n\n\n令和３年\n　１月　１２日(火)、１８日(月)、２５日(月) \n　２月　　１日(月)　　　　　\n\n\n\n対応時間\n９：３０～１１：３０　　１３：３０～１５：３０ \n会場\n市川町商工会館 \n相談員\n中小企業診断士　荒木慎吾　氏 \n申込\n前日までに申込書をご提出ください \n※当日でも申込状況によっては受付可能な場合もございますのでお問い合わせください \n  \n添付ファイル\n  経営課題解決個別相談会.pdf \n
URL:https://ichikawa-hyogo.jp/event/2020-09-23-01/
CATEGORIES:相談会
ATTACH;FMTTYPE=image/jpeg:https://ichikawa-hyogo.jp/wp-content/uploads/2020/06/no-image.jpg
END:VEVENT
BEGIN:VEVENT
DTSTART;TZID=Asia/Tokyo:20200924T093000
DTEND;TZID=Asia/Tokyo:20200924T153000
DTSTAMP:20260425T014631
CREATED:20200910T070437Z
LAST-MODIFIED:20200910T070902Z
UID:1167-1600939800-1600961400@ichikawa-hyogo.jp
SUMMARY:ポストコロナ社会に向けた経営課題を解決するための個別相談会
DESCRIPTION:ポストコロナ社会に向け、各事業者が抱えているさまざまな問題を解決するため、専門家（中小企業診断士）による個別相談会を実施します。新しい生活スタイルに向け、それぞれの事業者に合わせた多種多様な相談に対応します。 \n開催日（全２０日間）\n\n\n\n令和２年\n　９月　１０日(木)、２３日(水)、２４日(木)、３０日(水) \n１０月　　５日(月)、１２日(月)、１９日(月)、２６日(月) \n１１月　　２日(月)、　９日(月)、１６日(月)、２４日(火)、３０日(月) \n１２月　　７日(月)、１４日(月)、２１日(月)\n\n\n令和３年\n　１月　１２日(火)、１８日(月)、２５日(月) \n　２月　　１日(月)　　　　　\n\n\n\n対応時間\n９：３０～１１：３０　　１３：３０～１５：３０ \n会場\n市川町商工会館 \n相談員\n中小企業診断士　荒木慎吾　氏 \n申込\n前日までに申込書をご提出ください \n※当日でも申込状況によっては受付可能な場合もございますのでお問い合わせください \n  \n添付ファイル\n  経営課題解決個別相談会.pdf \n
URL:https://ichikawa-hyogo.jp/event/2020-09-24-01/
CATEGORIES:相談会
ATTACH;FMTTYPE=image/jpeg:https://ichikawa-hyogo.jp/wp-content/uploads/2020/06/no-image.jpg
END:VEVENT
BEGIN:VEVENT
DTSTART;TZID=Asia/Tokyo:20200930T093000
DTEND;TZID=Asia/Tokyo:20200930T153000
DTSTAMP:20260425T014631
CREATED:20200910T070517Z
LAST-MODIFIED:20200910T070852Z
UID:1169-1601458200-1601479800@ichikawa-hyogo.jp
SUMMARY:ポストコロナ社会に向けた経営課題を解決するための個別相談会
DESCRIPTION:ポストコロナ社会に向け、各事業者が抱えているさまざまな問題を解決するため、専門家（中小企業診断士）による個別相談会を実施します。新しい生活スタイルに向け、それぞれの事業者に合わせた多種多様な相談に対応します。 \n開催日（全２０日間）\n\n\n\n令和２年\n　９月　１０日(木)、２３日(水)、２４日(木)、３０日(水) \n１０月　　５日(月)、１２日(月)、１９日(月)、２６日(月) \n１１月　　２日(月)、　９日(月)、１６日(月)、２４日(火)、３０日(月) \n１２月　　７日(月)、１４日(月)、２１日(月)\n\n\n令和３年\n　１月　１２日(火)、１８日(月)、２５日(月) \n　２月　　１日(月)　　　　　\n\n\n\n対応時間\n９：３０～１１：３０　　１３：３０～１５：３０ \n会場\n市川町商工会館 \n相談員\n中小企業診断士　荒木慎吾　氏 \n申込\n前日までに申込書をご提出ください \n※当日でも申込状況によっては受付可能な場合もございますのでお問い合わせください \n  \n添付ファイル\n  経営課題解決個別相談会.pdf \n
URL:https://ichikawa-hyogo.jp/event/2020-09-30-01/
CATEGORIES:相談会
ATTACH;FMTTYPE=image/jpeg:https://ichikawa-hyogo.jp/wp-content/uploads/2020/06/no-image.jpg
END:VEVENT
END:VCALENDAR